BEGIN:VCALENDAR
VERSION:2.0
PRODID:-//Norfolk Tank Museum - ECPv6.15.20//NONSGML v1.0//EN
CALSCALE:GREGORIAN
METHOD:PUBLISH
X-WR-CALNAME:Norfolk Tank Museum
X-ORIGINAL-URL:https://norfolktankmuseum.co.uk
X-WR-CALDESC:Events for Norfolk Tank Museum
REFRESH-INTERVAL;VALUE=DURATION:PT1H
X-Robots-Tag:noindex
X-PUBLISHED-TTL:PT1H
BEGIN:VTIMEZONE
TZID:UTC
BEGIN:STANDARD
TZOFFSETFROM:+0000
TZOFFSETTO:+0000
TZNAME:UTC
DTSTART:20250101T000000
END:STANDARD
END:VTIMEZONE
BEGIN:VEVENT
DTSTART;TZID=UTC:20260620T080000
DTEND;TZID=UTC:20260621T170000
DTSTAMP:20260422T095531
CREATED:20260109T110039Z
LAST-MODIFIED:20260109T174237Z
UID:4750-1781942400-1782061200@norfolktankmuseum.co.uk
SUMMARY:Norfolk Military Vehicle Group Rally 20th & 21st June 2026
DESCRIPTION:🚚 Norfolk Military Vehicle Group Rally\nSaturday 20th & Sunday 21st June 2026 @ Norfolk Tank Museum\, NR16 1HZ (near Long Stratton) \nJoin us for a thrilling weekend celebrating Britain’s military heritage at the Norfolk Military Vehicle Rally. Expect an impressive gathering of historic military vehicles from across the decades\, brought together by their passionate owners\, restorers.\nThis is a family‑friendly event packed with displays\, demonstrations\, and hands‑on experiences for enthusiasts of all ages. \n🎖️ What’s On\nHistoric Military Vehicles on Display\nExplore an extraordinary range of military vehicles — from WW2 icons to Cold War armour and post‑war classics. Meet the owners\, learn about restoration projects\, and discover the stories behind these remarkable machines. \nPlus All Your Favourite @ Norfolk Tank Museum\nAlongside the rally\, enjoy everything the Norfolk Tank Museum is known for:\n• Tank Displays – See our armoured vehicles up close\n• Hands‑on Exhibits – Explore military equipment\, climb aboard selected vehicles\, and get involved\n• Food & Refreshments – Hot food\, drinks\, and treats available throughout the weekend \n\nFor further details about this event\, please contact us via email at events\nor alternatively email Norfolk Military Vehicle Group 
URL:https://norfolktankmuseum.co.uk/event/norfolk-military-vehicle-group-rally/
CATEGORIES:Events page
ATTACH;FMTTYPE=image/jpeg:https://norfolktankmuseum.co.uk/wp-content/uploads/2026/01/Norfolk-Military-Vehicle-Group-Rally.jpg
END:VEVENT
END:VCALENDAR